BEGIN:VCALENDAR
VERSION:2.0
PRODID:-//ChamberMaster//Event Calendar 2.0//EN
METHOD:PUBLISH
X-PUBLISHED-TTL:P3D
REFRESH-INTERVAL:P3D
CALSCALE:GREGORIAN
BEGIN:VEVENT
DTSTART:20170603T160000Z
DTEND:20170604T210000Z
X-MICROSOFT-CDO-ALLDAYEVENT:FALSE
SUMMARY:Historic Sportscar Racing
DESCRIPTION:HSR was formed in the mid-'70s with an event at Road Atlanta. There was one goal then and it remains true today: to celebrate the race cars from our past. As a "time machine" of sights and sounds\, HSR provides a venue for competitors and spectators alike to share in the wonderful history and excitement created by the cars that competed at race tracks around the world.\n\nIt is the goal of HSR to organize and promote competitive races\, featuring historic sportscars. Our top priorities are safety and sportsmanship. Drivers\, crew members and spectators sharing a passion for vintage racing thus creating memorable motorsports events.
X-ALT-DESC;FMTTYPE=text/html:<p>HSR was formed in the mid-&rsquo\;70s with an event at Road Atlanta. There was one goal then and it remains true today: to celebrate the race cars from our past. As a &ldquo\;time machine&rdquo\; of sights and sounds\, HSR provides a venue for competitors and spectators alike to share in the wonderful history and excitement created by the cars that competed at race tracks around the world.</p>\n\n<p>It is the goal of HSR to organize and promote competitive races\, featuring historic sportscars. Our top priorities are safety and sportsmanship. Drivers\, crew members and spectators sharing a passion for vintage racing thus creating memorable motorsports events.</p>\n
LOCATION:VIRginia International Raceway 1245 Pine Tree Road Alton\, VA 24520
UID:e.845.5763
SEQUENCE:3
DTSTAMP:20260422T212319Z
URL:https://business.halifaxchamber.net/events/details/historic-sportscar-racing-5763
END:VEVENT

END:VCALENDAR
