BEGIN:VCALENDAR
VERSION:2.0
PRODID:-//ChamberMaster//Event Calendar 2.0//EN
METHOD:PUBLISH
X-PUBLISHED-TTL:P3D
REFRESH-INTERVAL:P3D
CALSCALE:GREGORIAN
BEGIN:VEVENT
DTSTART;VALUE=DATE:20180601
DTEND;VALUE=DATE:20180604
TRANSP:TRANSPARENT
X-MICROSOFT-CDO-ALLDAYEVENT:TRUE
SUMMARY:Historic Sportscar Racing
DESCRIPTION:HSR was formed in the mid-'70s with an event at Road Atlanta. There was one goal then and it remains true today: to celebrate the race cars from our past. As a "time machine" of sights and sounds\, HSR provides a venue for competitors and spectators alike to share in the wonderful history and excitement created by the cars that competed at race tracks around the world.\n\nIt is the goal of HSR to organize and promote competitive races\, featuring historic sportscars. Our top priorities are safety and sportsmanship. Drivers\, crew members and spectators sharing a passion for vintage racing thus creating memorable motorsports events.\n\nAll current military will be admitted free and veterans will receive a 50% discount to ALL VIR events. Children 16 and under are always free with a paying adult and there is no cost for parking.
X-ALT-DESC;FMTTYPE=text/html:<p style="box-sizing: border-box\; margin: 1em 0px\; hyphens: none\; line-height: 1.5em\; color: rgb(0\, 0\, 0)\; font-family: HelveticaNeue-Light\, &quot\;Helvetica Neue Light&quot\;\, &quot\;Helvetica Neue&quot\;\, Helvetica\, Arial\, &quot\;Lucida Grande&quot\;\, sans-serif\; font-size: 16px\;"><a href="http://hsrrace.com/" style="box-sizing: border-box\; transition: all 0.3s\; color: rgb(0\, 105\, 64)\; -webkit-tap-highlight-color: rgba(0\, 0\, 0\, 0.3)\;" target="_blank"><strong style="box-sizing: border-box\;">HSR</strong></a>&nbsp\;was formed in the mid-&rsquo\;70s with an event at Road Atlanta. There was one goal then and it remains true today: to celebrate the race cars from our past. As a &ldquo\;time machine&rdquo\; of sights and sounds\, HSR provides a venue for competitors and spectators alike to share in the wonderful history and excitement created by the cars that competed at race tracks around the world.</p>\n\n<p style="box-sizing: border-box\; margin: 1em 0px\; hyphens: none\; line-height: 1.5em\; color: rgb(0\, 0\, 0)\; font-family: HelveticaNeue-Light\, &quot\;Helvetica Neue Light&quot\;\, &quot\;Helvetica Neue&quot\;\, Helvetica\, Arial\, &quot\;Lucida Grande&quot\;\, sans-serif\; font-size: 16px\;">It is the goal of HSR to organize and promote competitive races\, featuring historic sportscars. Our top priorities are safety and sportsmanship. Drivers\, crew members and spectators sharing a passion for vintage racing thus creating memorable motorsports events.</p>\n\n<p style="box-sizing: border-box\; margin: 1em 0px\; hyphens: none\; line-height: 1.5em\; color: rgb(0\, 0\, 0)\; font-family: HelveticaNeue-Light\, &quot\;Helvetica Neue Light&quot\;\, &quot\;Helvetica Neue&quot\;\, Helvetica\, Arial\, &quot\;Lucida Grande&quot\;\, sans-serif\; font-size: 16px\;"><strong style="box-sizing: border-box\;">All current military will be admitted free and veterans will receive a 50% discount to ALL VIR events. Children 16 and under are always free with a paying adult and there is no cost for parking.</strong></p>\n
LOCATION:VIRginia International Raceway 1245 Pine Tree Road Alton\, VA
UID:e.845.7206
SEQUENCE:3
DTSTAMP:20260422T000614Z
URL:https://business.halifaxchamber.net/events/details/historic-sportscar-racing-7206
END:VEVENT

END:VCALENDAR
