BEGIN:VCALENDAR
VERSION:2.0
PRODID:-//ChamberMaster//Event Calendar 2.0//EN
METHOD:PUBLISH
X-PUBLISHED-TTL:P3D
REFRESH-INTERVAL:P3D
CALSCALE:GREGORIAN
BEGIN:VEVENT
DTSTART:20191207T160000Z
DTEND:20191207T230000Z
X-MICROSOFT-CDO-ALLDAYEVENT:FALSE
SUMMARY:Holiday Extravaganza
DESCRIPTION:Join Hunting Creek Vineyards for some holiday fun and cheer! There will be plenty of gift ideas\, so enjoy a class of wine while getting your Christmas shopping done. There will also be Christmas tree's beside the barn for purchase and mulled wine or hot chocolate in addition to the normal wines.\n\nBrunswick Stew will be available for purchase.
X-ALT-DESC;FMTTYPE=text/html:Join Hunting Creek Vineyards for some holiday fun and cheer! There will be plenty of gift ideas\, so enjoy a class of wine while getting your Christmas shopping done. There will also be Christmas tree&#39\;s beside the barn for purchase and mulled wine or hot chocolate in addition to the normal wines.<br />\nBrunswick Stew will be available for purchase.<br />\n&nbsp\;
LOCATION:Hunting Creek Vineyards 2000 Addie Williams Trail Clover\, VA 24534
UID:e.845.15536
SEQUENCE:3
DTSTAMP:20260420T181819Z
URL:https://business.halifaxchamber.net/events/details/holiday-extravaganza-15536
END:VEVENT

END:VCALENDAR
