BEGIN:VCALENDAR
VERSION:2.0
PRODID:-//ChamberMaster//Event Calendar 2.0//EN
METHOD:PUBLISH
X-PUBLISHED-TTL:P3D
REFRESH-INTERVAL:P3D
CALSCALE:GREGORIAN
BEGIN:VEVENT
DTSTART:20161112T140000Z
DTEND:20161112T220000Z
X-MICROSOFT-CDO-ALLDAYEVENT:FALSE
SUMMARY:Holiday Living Show Sponsored by the Business Women's Association
DESCRIPTION:Holiday Living Show sponsored by the Business Women's Association.\n\nArts\, Crafts\, Food & More. All proceeds are used to fund scholarships for local students.
X-ALT-DESC;FMTTYPE=text/html:Holiday Living Show sponsored by the Business Women&#39\;s Association.<br />\nArts\, Crafts\, Food &amp\; More. All proceeds are used to fund scholarships for local students.
LOCATION:Halifax County High School
UID:e.845.5712
SEQUENCE:3
DTSTAMP:20260424T194101Z
URL:https://business.halifaxchamber.net/events/details/holiday-living-show-sponsored-by-the-business-women-s-association-5712
END:VEVENT

END:VCALENDAR
