BEGIN:VCALENDAR
VERSION:2.0
PRODID:-//ChamberMaster//Event Calendar 2.0//EN
METHOD:PUBLISH
X-PUBLISHED-TTL:P3D
REFRESH-INTERVAL:P3D
CALSCALE:GREGORIAN
BEGIN:VEVENT
DTSTART:20201205T160000Z
DTEND:20201205T220000Z
X-MICROSOFT-CDO-ALLDAYEVENT:FALSE
SUMMARY:Holiday Market at The Barn
DESCRIPTION:Join us for our annual Christmas Market at Hunting Creek Vineyards on Dec\, 5th from 11-5! We have Dimplecrafts\, Mill Road Art\, Toombs Wreaths and Centerpieces\, and The Succy Crafter selling local\, handmade stockings\, ornaments\, soaps\, bath bombs\, lip balm\, live wreaths\, earrings and much much more! We will also have mulled wine and fire pits going. Come out and support your local community.\n\nSocial distancing and face masks required while moving about.
X-ALT-DESC;FMTTYPE=text/html:<span style="color: rgb(5\, 5\, 5)\; font-family: system-ui\, -apple-system\, system-ui\, &quot\;.SFNSText-Regular&quot\;\, sans-serif\; font-size: 15px\;">Join us for our annual Christmas Market at Hunting Creek Vineyards on Dec\, 5th from 11-5! We have Dimplecrafts\, Mill Road Art\, Toombs Wreaths and Centerpieces\, and The Succy Crafter selling local\, handmade stockings\, ornaments\, soaps\, bath bombs\, lip balm\, live wreaths\, earrings and much much more! We will also have mulled wine and fire pits going. Come out and support your local community.</span><br style="color: rgb(5\, 5\, 5)\; font-family: system-ui\, -apple-system\, system-ui\, &quot\;.SFNSText-Regular&quot\;\, sans-serif\; font-size: 15px\;" />\n<span style="color: rgb(5\, 5\, 5)\; font-family: system-ui\, -apple-system\, system-ui\, &quot\;.SFNSText-Regular&quot\;\, sans-serif\; font-size: 15px\;">Social distancing and face masks required while moving about.</span>
LOCATION:The Barn Hunting Creek Vineyards 2000 Addie Williams Trail Clover\, VA 24534
UID:e.845.17812
SEQUENCE:3
DTSTAMP:20260419T220939Z
URL:https://business.halifaxchamber.net/events/details/holiday-market-at-the-barn-17812
END:VEVENT

END:VCALENDAR
