BEGIN:VCALENDAR
VERSION:2.0
PRODID:-//ChamberMaster//Event Calendar 2.0//EN
METHOD:PUBLISH
X-PUBLISHED-TTL:P3D
REFRESH-INTERVAL:P3D
CALSCALE:GREGORIAN
BEGIN:VEVENT
DTSTART:20161204T173000Z
DTEND:20161204T213000Z
X-MICROSOFT-CDO-ALLDAYEVENT:FALSE
SUMMARY:Holiday Market At The Farmer's Market
DESCRIPTION:Holiday Market featuring Crafts\, Food and Vendors!
X-ALT-DESC;FMTTYPE=text/html:Holiday Market featuring Crafts\, Food and Vendors!
LOCATION:Town of Halifax Farmer's Market
UID:e.845.5735
SEQUENCE:3
DTSTAMP:20260424T193752Z
URL:https://business.halifaxchamber.net/events/details/holiday-market-at-the-farmer-s-market-5735
END:VEVENT

END:VCALENDAR
