BEGIN:VCALENDAR
VERSION:2.0
PRODID:-//ChamberMaster//Event Calendar 2.0//EN
METHOD:PUBLISH
X-PUBLISHED-TTL:P3D
REFRESH-INTERVAL:P3D
CALSCALE:GREGORIAN
BEGIN:VEVENT
DTSTART:20161203T140000Z
DTEND:20161203T200000Z
X-MICROSOFT-CDO-ALLDAYEVENT:FALSE
SUMMARY:Holiday Market At The Farmer's Market Halifax
DESCRIPTION:Holiday Market featuring Crafts\, Food and Vendors!
X-ALT-DESC;FMTTYPE=text/html:Holiday Market featuring Crafts\, Food and Vendors!
LOCATION:Town of Halifax Farmer's Market
UID:e.845.5734
SEQUENCE:3
DTSTAMP:20260424T181558Z
URL:https://business.halifaxchamber.net/events/details/holiday-market-at-the-farmer-s-market-halifax-5734
END:VEVENT

END:VCALENDAR
