BEGIN:VCALENDAR
VERSION:2.0
PRODID:-//ChamberMaster//Event Calendar 2.0//EN
METHOD:PUBLISH
X-PUBLISHED-TTL:P3D
REFRESH-INTERVAL:P3D
CALSCALE:GREGORIAN
BEGIN:VEVENT
DTSTART:20161217T140000Z
DTEND:20161217T200000Z
X-MICROSOFT-CDO-ALLDAYEVENT:FALSE
SUMMARY:Holiday Market at the Halifax Farmer's Market
DESCRIPTION:Holiday Market Featuring Craft\, Food\, and Vendors.
X-ALT-DESC;FMTTYPE=text/html:<div style="color: gray\;">Holiday Market Featuring Craft\, Food\, and Vendors.</div>\n
LOCATION:Town of Halifax Farmer's Market
UID:e.845.5752
SEQUENCE:3
DTSTAMP:20260424T193934Z
URL:https://business.halifaxchamber.net/events/details/holiday-market-at-the-halifax-farmer-s-market-5752
END:VEVENT

END:VCALENDAR
