BEGIN:VCALENDAR
VERSION:2.0
PRODID:-//ChamberMaster//Event Calendar 2.0//EN
METHOD:PUBLISH
X-PUBLISHED-TTL:P3D
REFRESH-INTERVAL:P3D
CALSCALE:GREGORIAN
BEGIN:VEVENT
DTSTART:20161216T140000Z
DTEND:20161216T220000Z
X-MICROSOFT-CDO-ALLDAYEVENT:FALSE
SUMMARY:Holiday Open House Benchmark Community Bank
DESCRIPTION:Please join us at our annual Holiday Open House. Stop by anytime from 9 to 5\, enjoy refreshments\, and pick up our 2017 calendar\, " Best Kept Secrets"\, which features several interesting places throughout Southside Virginia.
X-ALT-DESC;FMTTYPE=text/html:Please join us at our annual Holiday Open House. Stop by anytime from 9 to 5\, enjoy refreshments\, and pick up our 2017 calendar\, &quot\; Best Kept Secrets&quot\;\, which features several interesting places throughout Southside Virginia.
LOCATION:Benchmark Community Bank Halifax 209 S. Main St & South Boston at Rts. 58 & 501
UID:e.845.5751
SEQUENCE:3
DTSTAMP:20260424T181145Z
URL:https://business.halifaxchamber.net/events/details/holiday-open-house-benchmark-community-bank-5751
END:VEVENT

END:VCALENDAR
