BEGIN:VCALENDAR
VERSION:2.0
PRODID:-//ChamberMaster//Event Calendar 2.0//EN
METHOD:PUBLISH
X-PUBLISHED-TTL:P3D
REFRESH-INTERVAL:P3D
CALSCALE:GREGORIAN
BEGIN:VEVENT
DTSTART:20171214T220000Z
DTEND:20171215T000000Z
X-MICROSOFT-CDO-ALLDAYEVENT:FALSE
SUMMARY:Holiday Open House - Commonwealth Senior Living
DESCRIPTION:You're invited to Holiday Open House at Commonwealth Senior Living on Thursday\, December 14th from 5:00 - 7:00PM.\n\n\n\nYou will enjoy the company of friends and see how they are changing the lives of seniors. \n\n\n\nHeavy hors d'oeuvres will be served. \n\n\n\nRSVP to cpuckett@commonwealthsl.com or (434) 572-7654.
X-ALT-DESC;FMTTYPE=text/html:You&#39\;re invited to Holiday Open House at Commonwealth Senior Living on Thursday\, December 14th from 5:00 - 7:00PM.<br />\n<br />\nYou will enjoy the company of friends and see how they are changing the lives of seniors.&nbsp\;<br />\n<br />\nHeavy hors d&#39\;oeuvres will be served.&nbsp\;<br />\n<br />\nRSVP to cpuckett@commonwealthsl.com or (434) 572-7654.
LOCATION:Commonwealth Senior Living 435 Hamilton Blvd. South Boston\, VA
UID:e.845.7183
SEQUENCE:3
DTSTAMP:20260422T104921Z
URL:https://business.halifaxchamber.net/events/details/holiday-open-house-commonwealth-senior-living-7183
END:VEVENT

END:VCALENDAR
