BEGIN:VCALENDAR
VERSION:2.0
PRODID:-//ChamberMaster//Event Calendar 2.0//EN
METHOD:PUBLISH
X-PUBLISHED-TTL:P3D
REFRESH-INTERVAL:P3D
CALSCALE:GREGORIAN
BEGIN:VEVENT
DTSTART:20181209T190000Z
DTEND:20181209T213000Z
X-MICROSOFT-CDO-ALLDAYEVENT:FALSE
SUMMARY:Holiday Open House South Boston Halifax County Museum
DESCRIPTION:Join museum volunteers\, visitors and staff for a wonderful winter event!  The museum will host our annual Christmas Open house with a wide variety of this to see. As always\, our annual open house is free to the public. This year's open house is themed on the ballet\, The Nutcracker.  Enjoy fine music\, hors-d'oeuvres\, and plenty of holiday cheer.
X-ALT-DESC;FMTTYPE=text/html:<div class="wpb_text_column wpb_content_element " style="box-sizing: border-box\; margin-bottom: 35px\; caret-color: rgb(45\, 45\, 45)\; color: rgb(45\, 45\, 45)\; font-family: &quot\;Open Sans&quot\;\, sans-serif\; font-size: 14px\;">\n<div class="wpb_wrapper" style="box-sizing: border-box\; margin-bottom: 0px\;">\n<p style="box-sizing: border-box\; margin: 0px\;">Join museum volunteers\, visitors and staff for a wonderful winter event!&nbsp\; The museum will host our annual Christmas Open house with a wide variety of this to see. As always\, our annual open house is free to the public. This year&rsquo\;s open house is themed on the ballet\, The Nutcracker.&nbsp\; Enjoy fine music\, hors-d&rsquo\;oeuvres\,&nbsp\;and plenty of holiday cheer.</p>\n</div>\n</div>\n\n<div class="vc_separator wpb_content_element vc_separator_align_center vc_sep_width_100 vc_sep_pos_align_center vc_separator_no_text vc_sep_color_mulled_wine" style="box-sizing: border-box\; margin-bottom: 35px\; display: flex\; -webkit-box-orient: horizontal\; -webkit-box-direction: normal\; flex-flow: row nowrap\; -webkit-box-align: center\; align-items: center\; width: 585.5px\; margin-left: auto\; margin-right: auto\; caret-color: rgb(45\, 45\, 45)\; color: rgb(45\, 45\, 45)\; font-family: &quot\;Open Sans&quot\;\, sans-serif\; font-size: 14px\;">&nbsp\;</div>\n
LOCATION:South Boston Halifax County Museum 1540 Wilborn Ave South Boston\, VA 24592
UID:e.845.11434
SEQUENCE:3
DTSTAMP:20260421T140451Z
URL:https://business.halifaxchamber.net/events/details/holiday-open-house-south-boston-halifax-county-museum-11434
END:VEVENT

END:VCALENDAR
