BEGIN:VCALENDAR
VERSION:2.0
PRODID:-//ChamberMaster//Event Calendar 2.0//EN
METHOD:PUBLISH
X-PUBLISHED-TTL:P3D
REFRESH-INTERVAL:P3D
CALSCALE:GREGORIAN
BEGIN:VEVENT
DTSTART:20180310T000000Z
DTEND:20180310T040000Z
X-MICROSOFT-CDO-ALLDAYEVENT:FALSE
SUMMARY:Hollywood Hospice Gala
DESCRIPTION:Please join Sentara Halifax Hospice as they host the 2018 'Hollywood Hospice Gala' on Friday\, March 9 from 7 p.m. to 11 p.m. There will be delicious food\, open beer and wine bar\, live auction\, and dancing to 'Chance of Snow' at The Prizery in beautiful downtown South Boston. Swing by Sentara Halifax Hospice to pick up your tickets now before they are sold out! $60 per person\, table sponsorship available. All proceeds will help pay for hospice patients' needs.
X-ALT-DESC;FMTTYPE=text/html:<span style="color: rgb(75\, 79\, 86)\; font-family: &quot\;SF Optimized&quot\;\, system-ui\, -apple-system\, system-ui\, &quot\;.SFNSText-Regular&quot\;\, sans-serif\; font-size: 14px\; letter-spacing: -0.12px\;">Please join Sentara Halifax Hospice as they host the 2018 &#39\;Hollywood Hospice Gala&#39\; on Friday\, March 9 from 7 p.m. to 11 p.m. There will be delicious food\, open beer and wine bar\, live auction\, and dancing to &#39\;Chance of Snow&#39\; at The Prizery in beautiful downtown South Boston. Swing by Sentara Halifax Hospice to pick up your tickets now before they are sold out! $60 per person\, table sponsorship available. All proceeds will help pay for hospice patients&#39\; needs.</span>
LOCATION:The Prizery 700 Bruce Steet South Boston\, VA
UID:e.845.7195
SEQUENCE:3
DTSTAMP:20260422T070431Z
URL:https://business.halifaxchamber.net/events/details/hollywood-hospice-gala-7195
END:VEVENT

END:VCALENDAR
