BEGIN:VCALENDAR
VERSION:2.0
PRODID:-//ChamberMaster//Event Calendar 2.0//EN
METHOD:PUBLISH
X-PUBLISHED-TTL:P3D
REFRESH-INTERVAL:P3D
CALSCALE:GREGORIAN
BEGIN:VEVENT
DTSTART:20191011T213000Z
DTEND:20191011T230000Z
X-MICROSOFT-CDO-ALLDAYEVENT:FALSE
SUMMARY:Homecoming Tailgate Party
DESCRIPTION:Join Yes for Schools for their homecoming tailgate party.\n\nCome out and support HCHS during Homecoming and be sure to stop by the Yes for Schools tailgate tent for your free hotdog.\n\nVolunteers will be on site to answer your questions and hand out Yes for Schools goodies.
X-ALT-DESC;FMTTYPE=text/html:Join Yes for Schools for their homecoming tailgate party.<br />\nCome out and support HCHS during Homecoming and be sure to stop by the Yes for Schools tailgate tent for your free hotdog.<br />\nVolunteers will be on site to answer your questions and hand out Yes for Schools goodies.
LOCATION:Halifax County High School South Boston\, VA 24592
UID:e.845.14462
SEQUENCE:3
DTSTAMP:20260420T214906Z
URL:https://business.halifaxchamber.net/events/details/homecoming-tailgate-party-14462
END:VEVENT

END:VCALENDAR
