BEGIN:VCALENDAR
VERSION:2.0
PRODID:-//ChamberMaster//Event Calendar 2.0//EN
METHOD:PUBLISH
X-PUBLISHED-TTL:P3D
REFRESH-INTERVAL:P3D
CALSCALE:GREGORIAN
BEGIN:VEVENT
DTSTART:20170325T150000Z
DTEND:20170325T170000Z
X-MICROSOFT-CDO-ALLDAYEVENT:FALSE
SUMMARY:Honk\, JR at the Prizery
DESCRIPTION:Honk\, JR is the musical story of Hans Christian Anderson's "The Ugly Duckling" Great theatre event for the entire family.
X-ALT-DESC;FMTTYPE=text/html:Honk\, JR is the musical story of Hans Christian Anderson&#39\;s &quot\;The Ugly Duckling&quot\; Great&nbsp\;theatre&nbsp\;event for the entire family. &nbsp\;&nbsp\;
LOCATION:The Prizery Chastain Theatre 700 Bruce Street South Boston\, VA 24592
UID:e.845.5790
SEQUENCE:3
DTSTAMP:20260424T145740Z
URL:https://business.halifaxchamber.net/events/details/honk-jr-at-the-prizery-03-25-2017-5790
END:VEVENT

END:VCALENDAR
