BEGIN:VCALENDAR
VERSION:2.0
PRODID:-//ChamberMaster//Event Calendar 2.0//EN
METHOD:PUBLISH
X-PUBLISHED-TTL:P3D
REFRESH-INTERVAL:P3D
CALSCALE:GREGORIAN
BEGIN:VEVENT
DTSTART:20180712T130000Z
DTEND:20180712T160000Z
X-MICROSOFT-CDO-ALLDAYEVENT:FALSE
SUMMARY:Hospitality Workshop
DESCRIPTION:Maximize your long-term profitability with efficient and friendly interactions at every single touch point. Come hear from Dr. Vincent Magnini\, author and associate professor at Virginia Tech\, and learn about the latest research on establishing and maintaining a first-class customer service culture. FREE Workshop!
X-ALT-DESC;FMTTYPE=text/html:<span style="language:en-US\;"><span style="color:black\;"><span style="font-family:times new roman\;"><span style="font-size:13.0pt\;">Maximize your long-term profitability with efficient and friendly interactions at every single touch point. Come hear from Dr. Vincent </span></span></span></span><span style="language:en-US\;"><span style="color:black\;"><span style="font-family:times new roman\;"><span style="font-size:13.0pt\;">Magnini</span></span></span></span><span style="language:en-US\;"><span style="color:black\;"><span style="font-family:times new roman\;"><span style="font-size:13.0pt\;">\, author and associate professor at Virginia Tech\, and learn about the latest research on establishing and maintaining a first-class customer service culture. </span></span></span></span><span style="language:en-US\;"><span style="color:black\;"><span style="font-family:times new roman\;"><span style="font-size:13.0pt\;">FREE Workshop!</span></span></span></span>
LOCATION:Innovation Center 820 Bruce Street South Boston\, VA
UID:e.845.8466
SEQUENCE:3
DTSTAMP:20260421T221911Z
URL:https://business.halifaxchamber.net/events/details/hospitality-workshop-8466
END:VEVENT

END:VCALENDAR
