BEGIN:VCALENDAR
VERSION:2.0
PRODID:-//ChamberMaster//Event Calendar 2.0//EN
METHOD:PUBLISH
X-PUBLISHED-TTL:P3D
REFRESH-INTERVAL:P3D
CALSCALE:GREGORIAN
BEGIN:VEVENT
DTSTART:20190713T140000Z
DTEND:20190713T160000Z
X-MICROSOFT-CDO-ALLDAYEVENT:FALSE
SUMMARY:Hot Dog Days of Summer Downtown South Boston Farmers Market
DESCRIPTION:Celebrate the hot dog days of summer with a community cookout at the market! Free hot dog and drink from 10:00am until Noon prepared by South Boston Town Council Members.
X-ALT-DESC;FMTTYPE=text/html:Celebrate the hot dog days of summer with a community cookout at the market! Free hot dog and drink from 10:00am until Noon prepared by South Boston Town Council Members.&nbsp\;<br />\n&nbsp\;
LOCATION:Downtown South Boston Farmers Market
UID:e.845.13244
SEQUENCE:3
DTSTAMP:20260421T031816Z
URL:https://business.halifaxchamber.net/events/details/hot-dog-days-of-summer-downtown-south-boston-farmers-market-13244
END:VEVENT

END:VCALENDAR
