BEGIN:VCALENDAR
VERSION:2.0
PRODID:-//ChamberMaster//Event Calendar 2.0//EN
METHOD:PUBLISH
X-PUBLISHED-TTL:P3D
REFRESH-INTERVAL:P3D
CALSCALE:GREGORIAN
BEGIN:VEVENT
DTSTART:20190428T190000Z
DTEND:20190428T210000Z
X-MICROSOFT-CDO-ALLDAYEVENT:FALSE
SUMMARY:House the Hounds-Law Enforcement K9 Event
DESCRIPTION:Come out to Hudson Heritage Farms in support of our Local Sheriff's Departments K9's. This is a family event with working dog demonstrations\, food and other items for sale with proceeds supporting our local Law Enforcements K9 programs and housing needs.
X-ALT-DESC;FMTTYPE=text/html:Come out to Hudson Heritage Farms in support of our Local Sheriff&#39\;s Departments K9&#39\;s. This is a family event with working dog demonstrations\, food and other items for sale with proceeds supporting our local Law Enforcements K9 programs and housing needs.
LOCATION:Hudson Heritage Farms 14242 River Road South Boston\, VA
UID:e.845.11669
SEQUENCE:3
DTSTAMP:20260421T094020Z
URL:https://business.halifaxchamber.net/events/details/house-the-hounds-law-enforcement-k9-event-11669
END:VEVENT

END:VCALENDAR
