BEGIN:VCALENDAR
VERSION:2.0
PRODID:-//ChamberMaster//Event Calendar 2.0//EN
METHOD:PUBLISH
X-PUBLISHED-TTL:P3D
REFRESH-INTERVAL:P3D
CALSCALE:GREGORIAN
BEGIN:VEVENT
DTSTART:20201208T133000Z
DTEND:20201208T133000Z
X-MICROSOFT-CDO-ALLDAYEVENT:FALSE
SUMMARY:How to Create a Customer Surprise Culture in a Small Business
DESCRIPTION:Join Vince Magnini as he offers some practical ways to create a culture in a small business in which a continuous stream of customer surprise ideas can be generated and implemented. Customers often enter service transactions with predetermined 'mental scripts' regarding how they predict the transactions will unfold and are not paying close attention.  In order to gain their full attention\, firms must find ways to surprise consumers\; that is\, firms must spawn script deviations for them.  Research indicates that these script deviations can cement consumer loyalty.
X-ALT-DESC;FMTTYPE=text/html:<span style="caret-color: rgb(0\, 0\, 0)\; color: rgb(0\, 0\, 0)\; font-family: Calibri\, sans-serif\; font-size: 14.6667px\; text-size-adjust: auto\;">Join Vince Magnini as he offers some practical ways to create a culture in a small business in which a continuous stream of customer surprise ideas can be generated and implemented. Customers often enter service transactions with predetermined &lsquo\;mental scripts&rsquo\; regarding how they predict the transactions will unfold and are not paying close attention.&nbsp\; In order to gain their full attention\, firms must find ways to surprise consumers\; that is\, firms must spawn script deviations for them.&nbsp\; Research indicates that these script deviations can cement consumer loyalty.&nbsp\;</span>
LOCATION:Register via Zoom at https://us02web.zoom.us/meeting/register/tZcvdumuqDsqH92O_w6gCzrYCWUZ5upbGCMb
UID:e.845.17801
SEQUENCE:3
DTSTAMP:20260419T234901Z
URL:https://business.halifaxchamber.net/events/details/how-to-create-a-customer-surprise-culture-in-a-small-business-17801
END:VEVENT

END:VCALENDAR
