BEGIN:VCALENDAR
VERSION:2.0
PRODID:-//ChamberMaster//Event Calendar 2.0//EN
METHOD:PUBLISH
X-PUBLISHED-TTL:P3D
REFRESH-INTERVAL:P3D
CALSCALE:GREGORIAN
BEGIN:VEVENT
DTSTART:20150513T200000Z
DTEND:20150513T220000Z
X-MICROSOFT-CDO-ALLDAYEVENT:FALSE
SUMMARY:How to Run for Public Office Workshop
DESCRIPTION:Candidate Overview\n\n"How to Run for Public Office"\n\nA free workshop designed to assist Halifax County residents who are interested in running for public office or those interested in learning more about the election process.\n\n \n\nWednesday\, May 13\, 2015\n\n4:00 p.m. to 6:00 p.m.\n\nSouthern Virginia Higher Education Center\n\nHope Classroom\n\nSouth Boston\, Virginia\n\n \n\n \n\nWelcome Ms. Mitzi T. Riddle\, Halifax County Chamber of Commerce\n\n \n\n \n\nCivic Engagement:  The Public Servant The Honorable Coleman Speece\, Vice-Mayor\, Town of South Boston\n\n \n\n \n\nThe State Board of Elections:  Candidate Paperwork Ms. Heather Harding\,  Halifax County Voter Registrar\n\n \n\n \n\nThe Region in Review Dr. Martha A. Walker\, Community Viability Specialist\, Virginia Cooperative Extension \n\n \n\n \n\nA Candidate's Campaign Martha Walker
X-ALT-DESC;FMTTYPE=text/html:<strong><span style="text-shadow:auto\;"><span style="font-family:verdana\,sans-serif\;"><span style="font-size:26.0pt\;">Candidate Overview</span></span></span></strong><br />\n<strong><span style="text-shadow:auto\;"><span style="font-family:verdana\,sans-serif\;"><span style="font-size:18.0pt\;">&ldquo\;How to Run for Public Office&rdquo\;</span></span></span></strong><br />\n<span style="font-family:verdana\,sans-serif\;"><span style="font-size:10.0pt\;">A free workshop designed to assist Halifax County residents who are interested in running for public office or those interested in learning more about the election process.</span></span><br />\n&nbsp\;<br />\n<strong><span style="text-shadow:auto\;"><span style="font-family:verdana\,sans-serif\;">Wednesday\, May 13\, 2015<br />\n4:00 p.m. to 6:00 p.m.</span></span></strong><br />\n<em><span style="font-family:verdana\,sans-serif\;"><span style="font-size:10.0pt\;">Southern Virginia Higher Education Center</span></span></em><br />\n<em><span style="font-family:verdana\,sans-serif\;"><span style="font-size:10.0pt\;">Hope Classroom</span></span></em><br />\n<em><span style="font-family:verdana\,sans-serif\;"><span style="font-size:10.0pt\;">South Boston\, Virginia</span></span></em><br />\n&nbsp\;<br />\n&nbsp\;<br />\n<strong><span style="font-family:arial\,sans-serif\;">Welcome&nbsp\;</span></strong><span style="font-family:arial\,sans-serif\;">Ms. Mitzi T. Riddle\,&nbsp\;</span><span style="font-family:arial\,sans-serif\;">Halifax County Chamber of Commerce</span><br />\n&nbsp\;<br />\n&nbsp\;<br />\n<strong><span style="font-family:arial\,sans-serif\;">Civic Engagement:&nbsp\; The Public Servant&nbsp\;</span></strong><span style="font-family:arial\,sans-serif\;">The Honorable Coleman Speece\, Vice-</span><span style="font-family:arial\,sans-serif\;">Mayor\, Town of South Boston</span><br />\n&nbsp\;<br />\n&nbsp\;<br />\n<strong><span style="font-family:arial\,sans-serif\;">The State Board of Elections: &nbsp\;Candidate </span></strong><span style="font-family:arial\,sans-serif\;"><strong>Paperwork&nbsp\;</strong>Ms. Heather Harding\,&nbsp\;</span><span style="font-family:arial\,sans-serif\;">&nbsp\;Halifax County Voter Registrar</span><br />\n&nbsp\;<br />\n&nbsp\;<br />\n<strong><span style="font-family:arial\,sans-serif\;">The Region in Review&nbsp\;</span></strong><span style="font-family:arial\,sans-serif\;">Dr. Martha A. Walker\,&nbsp\;</span><span style="font-family:arial\,sans-serif\;">Community Viability Specialist\, Virginia Cooperative Extension </span><br />\n&nbsp\;<br />\n&nbsp\;<br />\n<strong><span style="font-family:arial\,sans-serif\;">A Candidate&rsquo\;s Campaign&nbsp\;</span></strong><span style="font-family:arial\,sans-serif\;">Martha Walker</span>
LOCATION:Southern Virginia Higher Education Center Hope Classroom South Boston\, Virginia
UID:e.845.2703
SEQUENCE:3
DTSTAMP:20260426T015904Z
URL:https://business.halifaxchamber.net/events/details/how-to-run-for-public-office-workshop-05-13-2015-2703
END:VEVENT

END:VCALENDAR
