BEGIN:VCALENDAR
VERSION:2.0
PRODID:-//ChamberMaster//Event Calendar 2.0//EN
METHOD:PUBLISH
X-PUBLISHED-TTL:P3D
REFRESH-INTERVAL:P3D
CALSCALE:GREGORIAN
BEGIN:VEVENT
DTSTART:20190321T200000Z
DTEND:20190321T220000Z
X-MICROSOFT-CDO-ALLDAYEVENT:FALSE
SUMMARY:How To Run for Public Office Workshop
DESCRIPTION:Citizens who are or may be interested in running for public office are encouraged to attend an upcoming workshop on "How to Run for Public Office." The workshop will be held on Thursday\, March 21\, in the Southern Virginia Higher Education Foundation Boardroom in the Southern Virginia Higher Education Center from 4:00   6:00 p.m.\n\n \n\nThe workshop will include information from the State Board of Elections with Heather Harding\, Halifax County Voter Registrar\; and Halifax County in Review\; and From Candidate to Elected Official.\n\n \n\nThis workshop will provide the appropriate steps necessary to run an election campaign. Whether already running or considering a run in the upcoming November 2019 election or sometime in the future\, this workshop will provide useful information.\n\n\n\nFor more information or to register for the workshop\, please contact the Chamber office at 434-572-3085 or by email at info@halifaxchamber.net. \n\n\n\nWhile there is no cost to participate\, registrations are requested and should be made by Friday\, March 15.
X-ALT-DESC;FMTTYPE=text/html:<div style="color: rgb(96\, 96\, 96)\; font-family: Arial\, Helvetica\, sans-serif\; font-size: 13.333333015441895px\;">\n<div class="SubheadingText" style="color: rgb(0\, 170\, 212)\; font-size: 10pt\;">\n<div align="left" style="text-align: left\;">\n<p style="margin-bottom: 0px\; margin-top: 0px\;"><span style="color:#000000\;">Citizens who are or may be interested in running for public office are encouraged to attend an upcoming workshop on &ldquo\;How to Run for Public Office.&rdquo\; The workshop will be held on Thursday\, March 21\, in the Southern Virginia Higher Education Foundation Boardroom in the Southern Virginia Higher Education Center from 4:00 &ndash\; 6:00 p.m.<br />\n&nbsp\;<br />\nThe workshop will include information from the State Board of Elections with Heather Harding\, Halifax County Voter Registrar\; and Halifax County in Review\; and From Candidate to Elected Official.<br />\n&nbsp\;<br />\nThis workshop will provide the appropriate steps necessary to run an election campaign. Whether already running or considering a run in the upcoming November 2019&nbsp\;election or sometime in the future\, this workshop will provide useful information.<br />\n<br />\nFor more information or to register for the workshop\, please contact the Chamber office at 434-572-3085 or by email at </span><a href="mailto:info@halifaxchamber.net"><span style="color:#000000\;">info@halifaxchamber.net</span></a><span style="color:#000000\;">.&nbsp\;<br />\n<br />\nWhile there is no cost to participate\, registrations are requested and should be made by Friday\, March 15.<br />\n&nbsp\;</span><br />\n&nbsp\;</p>\n</div>\n</div>\n</div>\n
LOCATION:Southern Virginia Higher Education Foundation Boardroom Southern Virginia Higher Education Center 820 Bruce Street South Boston\, VA
UID:e.845.12024
SEQUENCE:3
DTSTAMP:20260421T105932Z
URL:https://business.halifaxchamber.net/events/details/how-to-run-for-public-office-workshop-12024
END:VEVENT

END:VCALENDAR
