BEGIN:VCALENDAR
VERSION:2.0
PRODID:-//ChamberMaster//Event Calendar 2.0//EN
METHOD:PUBLISH
X-PUBLISHED-TTL:P3D
REFRESH-INTERVAL:P3D
CALSCALE:GREGORIAN
BEGIN:VEVENT
DTSTART:20170517T200000Z
DTEND:20170517T220000Z
X-MICROSOFT-CDO-ALLDAYEVENT:FALSE
SUMMARY:How To Run for Public Office Workshop
DESCRIPTION:Citizens who are or may be interested in running for public office are encouraged to attend an upcoming workshop on "How to Run for Public Office." The workshop will be held on Wednesday\, May 17\, in the Southern Virginia Higher Education Foundation Boardroom in the Southern Virginia Higher Education Center from 4:00   6:00 p.m.\n\n \n\nThe workshop will include information from the State Board of Elections with Heather Harding\, Halifax County Voter Registrar\; and Halifax County in Review\; and From Candidate to Elected Official.\n\n \n\nThis workshop will provide the appropriate steps necessary to run an election campaign. Whether already running or considering a run in the upcoming November 2017 election or sometime in the future\, this workshop will provide useful information.\n\n \n\n"The Halifax County Chamber of Commerce is offering the workshop in an effort to encourage more citizens to get involved in public service either through elective office or service on boards and committees\," stated Chamber President Mitzi McCormick. "Citizen engagement leads to better collaboration and a more healthy and vital community."\n\n \n\nFor more information or to register for the workshop\, please contact the Chamber office at 434-572-3085 or by email at info@halifaxchamber.net.  While there is no cost to participate\, registrations are requested and should be made by Friday\, May 12.
X-ALT-DESC;FMTTYPE=text/html:<div style="color: rgb(96\, 96\, 96)\; font-family: Arial\, Helvetica\, sans-serif\; font-size: 13.333333015441895px\;">\n<div class="SubheadingText" style="color: rgb(0\, 170\, 212)\; font-size: 10pt\;">\n<div align="left" style="text-align: left\;">\n<p style="margin-bottom: 0px\; margin-top: 0px\;"><span style="color:#000000\;">Citizens who are or may be interested in running for public office are encouraged to attend an upcoming workshop on &ldquo\;How to Run for Public Office.&rdquo\; The workshop will be held on Wednesday\, May 17\, in the Southern Virginia Higher Education Foundation Boardroom in the Southern Virginia Higher Education Center from 4:00 &ndash\; 6:00 p.m.<br />\n&nbsp\;<br />\nThe workshop will include information from the State Board of Elections with Heather Harding\, Halifax County Voter Registrar\; and Halifax County in Review\; and From Candidate to Elected Official.<br />\n&nbsp\;<br />\nThis workshop will provide the appropriate steps necessary to run an election campaign. Whether already running or considering a run in the upcoming November 2017 election or sometime in the future\, this workshop will provide useful information.<br />\n&nbsp\;<br />\n&ldquo\;The Halifax County Chamber of Commerce is offering the workshop in an effort to encourage more citizens to get involved in public service either through elective office or service on boards and committees\,&rdquo\; stated Chamber President Mitzi McCormick. &ldquo\;Citizen engagement leads to better collaboration and a more healthy and vital community.&rdquo\;<br />\n&nbsp\;<br />\nFor more information or to register for the workshop\, please contact the Chamber office at 434-572-3085 or by email at </span><a href="mailto:info@halifaxchamber.net"><span style="color:#000000\;">info@halifaxchamber.net</span></a><span style="color:#000000\;">.&nbsp\; While there is no cost to participate\, registrations are requested and should be made by Friday\, May 12.<br />\n&nbsp\;</span><br />\n&nbsp\;</p>\n</div>\n</div>\n</div>\n
LOCATION:Southern Virginia Higher Education Foundation Boardroom Southern Virginia Higher Education Center 820 Bruce Street South Boston\, VA
UID:e.845.5911
SEQUENCE:3
DTSTAMP:20260423T011321Z
URL:https://business.halifaxchamber.net/events/details/how-to-run-for-public-office-workshop-5911
END:VEVENT

END:VCALENDAR
