BEGIN:VCALENDAR
VERSION:2.0
PRODID:-//ChamberMaster//Event Calendar 2.0//EN
METHOD:PUBLISH
X-PUBLISHED-TTL:P3D
REFRESH-INTERVAL:P3D
CALSCALE:GREGORIAN
BEGIN:VEVENT
DTSTART:20181016T213000Z
DTEND:20181016T230000Z
X-MICROSOFT-CDO-ALLDAYEVENT:FALSE
SUMMARY:Huber Business After Hours @ Molasses Grill
DESCRIPTION:Join us for our Business After Hours event sponsored by Huber Engineered Woods at Molasses Grill in Halifax\, VA!
X-ALT-DESC;FMTTYPE=text/html:Join us for our Business After Hours event sponsored by Huber Engineered Woods at Molasses Grill in Halifax\, VA!&nbsp\;<br />\n&nbsp\;
LOCATION:Molasses Grill
UID:e.845.8509
SEQUENCE:3
DTSTAMP:20260421T190549Z
URL:https://business.halifaxchamber.net/events/details/huber-business-after-hours-molasses-grill-8509
END:VEVENT

END:VCALENDAR
