BEGIN:VCALENDAR
VERSION:2.0
PRODID:-//ChamberMaster//Event Calendar 2.0//EN
METHOD:PUBLISH
X-PUBLISHED-TTL:P3D
REFRESH-INTERVAL:P3D
CALSCALE:GREGORIAN
BEGIN:VEVENT
DTSTART:20170508T190000Z
DTEND:20170508T230000Z
X-MICROSOFT-CDO-ALLDAYEVENT:FALSE
SUMMARY:Huber Engineered Woods Job Fair
DESCRIPTION:Huber Engineered Woods is holding a job fair Monday\, May 8th from 3-7PM at the VEC\, Workforce Center.\n\n\n\nBy attending the job fair you will get a head start for possible employment...\n\nPre-assessed\n\nPre-screened\n\nApplication retained for 6 months\n\nOpportunity to update current application\n\n\n\nInterviews on site!
X-ALT-DESC;FMTTYPE=text/html:Huber Engineered Woods is holding a job fair Monday\, May 8th from 3-7PM at the VEC\, Workforce Center.<br />\n<br />\nBy attending the job fair you will get a head start for possible employment...<br />\nPre-assessed<br />\nPre-screened<br />\nApplication retained for 6 months<br />\nOpportunity to update current application<br />\n<br />\nInterviews on site!
LOCATION:VEC\, Workforce Center 2506 Houghton Ave. South Boston\, VA
UID:e.845.5912
SEQUENCE:3
DTSTAMP:20260422T232513Z
URL:https://business.halifaxchamber.net/events/details/huber-engineered-woods-job-fair-5912
END:VEVENT

END:VCALENDAR
