BEGIN:VCALENDAR
VERSION:2.0
PRODID:-//ChamberMaster//Event Calendar 2.0//EN
METHOD:PUBLISH
X-PUBLISHED-TTL:P3D
REFRESH-INTERVAL:P3D
CALSCALE:GREGORIAN
BEGIN:VEVENT
DTSTART;VALUE=DATE:20150411
DTEND;VALUE=DATE:20150412
TRANSP:TRANSPARENT
X-MICROSOFT-CDO-ALLDAYEVENT:TRUE
SUMMARY:Hudson Heritage Farms- Biscuits/Lard/Butter Making Class
DESCRIPTION:Biscuits\, Lard\, and Butter\n\nIt doesn't get much better.\n\n \n\nCome to Hudson Heritage Farms Studio and learn to make Biscuits\, Lard\, and Fresh Butter.  Just in time for those summer time get togethers! \n\n \n\nPersonal Chef\, Sue Graves \n\nWill be on hand to teach you how to make the best biscuits you will ever taste or serve.\n\n \n\nSaturday\, April 11th\n\n1:00   3:00\n\nCost:     $25*\n\nEach participant will learn a little about the history of lard\, butter\, and biscuits\, and leave the class with a small container of fresh lard. Several biscuit recipes will be made\, and Chef Graves biscuit handbook will be emailed to all participants. Tea with biscuits will be served at the conclusion of the class.
X-ALT-DESC;FMTTYPE=text/html:<span style="font-size:36pt"><span style="font-family:mongolian baiti">Biscuits\, Lard\, and Butter</span></span><br />\n<span style="font-size:18pt"><span style="font-family:mongolian baiti">It doesn&rsquo\;t get much better.</span></span><br />\n&nbsp\;<br />\n<span style="font-size:18pt"><span style="font-family:mongolian baiti">Come to Hudson Heritage Farms Studio and learn to make Biscuits\, Lard\, and Fresh Butter.&nbsp\; Just in time for those summer time get togethers! </span></span><br />\n&nbsp\;<br />\n<span style="font-size:36pt"><span style="font-family:mongolian baiti">Personal Chef\, Sue Graves </span></span><br />\n<span style="font-size:24pt"><span style="font-family:mongolian baiti">Will be on hand to teach you how to make the best biscuits you will ever taste or serve.</span></span><br />\n&nbsp\;<br />\n<span style="font-size:24pt"><span style="font-family:mongolian baiti">Saturday\, April 11th</span></span><br />\n<span style="font-size:18pt"><span style="font-family:mongolian baiti">1:00 &ndash\; 3:00</span></span><br />\n<span style="font-size:18pt"><span style="font-family:mongolian baiti">Cost:&nbsp\;&nbsp\;&nbsp\;&nbsp\; $25</span></span><span style="font-size:12pt"><span style="font-family:mongolian baiti">*</span></span><br />\n<span style="font-size:8pt"><span style="font-family:mongolian baiti">Each participant will learn a little about the history of lard\, butter\, and biscuits\, and leave the class with a small container of fresh lard. Several biscuit recipes will be made\, and Chef Graves biscuit handbook will be emailed to all participants. Tea with biscuits will be served at the conclusion of the class. </span></span><br />\n&nbsp\;
LOCATION:Hudson Heritage Farms Studio
UID:e.845.2486
SEQUENCE:3
DTSTAMP:20260426T035646Z
URL:https://business.halifaxchamber.net/events/details/hudson-heritage-farms-biscuits-lard-butter-making-class-04-11-2015-2486
END:VEVENT

END:VCALENDAR
