BEGIN:VCALENDAR
VERSION:2.0
PRODID:-//ChamberMaster//Event Calendar 2.0//EN
METHOD:PUBLISH
X-PUBLISHED-TTL:P3D
REFRESH-INTERVAL:P3D
CALSCALE:GREGORIAN
BEGIN:VEVENT
DTSTART:20161001T170000Z
DTEND:20161001T190000Z
X-MICROSOFT-CDO-ALLDAYEVENT:FALSE
SUMMARY:Hudson Heritage Farms Pasta Making Class
DESCRIPTION:Hudson Heritage Farms Pasta Making Class with Special Guest Instructor Sharon Munyak from Hobby Hill Farms\n\n\n\nClass will consist of a demonstration and opportunity for hands on experience of making pasta. We will also make a light snack from the pasta and beverages will be available.
X-ALT-DESC;FMTTYPE=text/html:<span style="font-family: arial\;"><span style="font-size: 14px\;">Hudson Heritage Farms Pasta Making Class with Special Guest Instructor Sharon Munyak from Hobby Hill Farms<br />\n<br />\nClass will consist of a demonstration and opportunity for hands on experience of making pasta. We will also make a light snack from the pasta and beverages will be available. </span></span><br />\n&nbsp\;
LOCATION:The Farm Studio at Hudson Heritage Farms 14242 River Road South Boston\, VA
UID:e.845.5701
SEQUENCE:3
DTSTAMP:20260424T211508Z
URL:https://business.halifaxchamber.net/events/details/hudson-heritage-farms-pasta-making-class-10-01-2016-5701
END:VEVENT

END:VCALENDAR
