BEGIN:VCALENDAR
VERSION:2.0
PRODID:-//ChamberMaster//Event Calendar 2.0//EN
METHOD:PUBLISH
X-PUBLISHED-TTL:P3D
REFRESH-INTERVAL:P3D
CALSCALE:GREGORIAN
BEGIN:VEVENT
DTSTART:20181211T170000Z
DTEND:20181211T180000Z
X-MICROSOFT-CDO-ALLDAYEVENT:FALSE
SUMMARY:Human Resource Managers Meeting
DESCRIPTION:Human Resource managers are invited to attend a "dutch treat" luncheon at Darby's Tavern on Tuesday\, December 11\, at noon. Representatives from ABB and the Virginia Career Works   South Boston Center will be present to share recent partnership developments and hiring successes.
X-ALT-DESC;FMTTYPE=text/html:<p><span style="font-size:14px\;"><span style="font-family:arial\;">Human Resource managers are invited to attend a &quot\;dutch treat&quot\; luncheon&nbsp\;<span style="caret-color: rgb(0\, 0\, 0)\; color: rgb(0\, 0\, 0)\; text-size-adjust: auto\; font-style: inherit !important\; font-variant-caps: inherit !important\; font-weight: inherit !important\; position: static !important\; margin: 0px !important\; padding: 0px !important\; opacity: 1 !important\; float: inherit !important\; font-stretch: inherit !important\; line-height: inherit !important\;">at Darby&rsquo\;s Tavern on Tuesday\, December 11\, at noon. </span><span style="caret-color: rgb(0\, 0\, 0)\; color: black\; text-size-adjust: auto\;">Representatives from ABB and the Virginia Career Works &ndash\; South Boston Center will be present to share recent partnership developments and hiring successes.</span></span></span></p>\n
LOCATION:Darby's Tavern at Berry Hill
UID:e.845.8610
SEQUENCE:3
DTSTAMP:20260421T135741Z
URL:https://business.halifaxchamber.net/events/details/human-resource-managers-meeting-8610
END:VEVENT

END:VCALENDAR
