BEGIN:VCALENDAR
VERSION:2.0
PRODID:-//ChamberMaster//Event Calendar 2.0//EN
METHOD:PUBLISH
X-PUBLISHED-TTL:P3D
REFRESH-INTERVAL:P3D
CALSCALE:GREGORIAN
BEGIN:VEVENT
DTSTART:20191123T160000Z
DTEND:20191123T220000Z
X-MICROSOFT-CDO-ALLDAYEVENT:FALSE
SUMMARY:Hunting Creek Vineyards 10 Year Anniversary
DESCRIPTION:Hunting Creek Vineyards invites you to come celebrate their 10 Year Anniversary. There will be music from Vintage Silk\, a vintage wine flight and cheese board tasting. Food will be available for purchase from Smokin' Butts.
X-ALT-DESC;FMTTYPE=text/html:Hunting Creek Vineyards invites you to come celebrate their 10 Year Anniversary. There will be music from Vintage Silk\, a vintage wine flight and cheese board tasting. Food will be available for purchase from Smokin&#39\; Butts.&nbsp\;
LOCATION:Hunting Creek Vineyards 2000 Addie Williams Trail Clover\, VA 24534
UID:e.845.15528
SEQUENCE:3
DTSTAMP:20260420T215518Z
URL:https://business.halifaxchamber.net/events/details/hunting-creek-vineyards-10-year-anniversary-15528
END:VEVENT

END:VCALENDAR
