BEGIN:VCALENDAR
VERSION:2.0
PRODID:-//ChamberMaster//Event Calendar 2.0//EN
METHOD:PUBLISH
X-PUBLISHED-TTL:P3D
REFRESH-INTERVAL:P3D
CALSCALE:GREGORIAN
BEGIN:VEVENT
DTSTART:20181215T160000Z
DTEND:20181215T100000Z
X-MICROSOFT-CDO-ALLDAYEVENT:FALSE
SUMMARY:Hunting Creek Vineyards Build a basket
DESCRIPTION:Shop for Christmas gifts while you drink wine and have your gift baskets/boxes assembled and wrapped. Relax and warm up with delicious soup and mulled wine\, even if you have all of your shopping done!
X-ALT-DESC;FMTTYPE=text/html:Shop for Christmas gifts while you drink wine and have your gift baskets/boxes assembled and wrapped. Relax and warm up with delicious soup and mulled wine\, even if you have all of your shopping done!
LOCATION:Hunting Creek Vineyards
UID:e.845.8814
SEQUENCE:3
DTSTAMP:20260421T153148Z
URL:https://business.halifaxchamber.net/events/details/hunting-creek-vineyards-build-a-basket-8814
END:VEVENT

END:VCALENDAR
