BEGIN:VCALENDAR
VERSION:2.0
PRODID:-//ChamberMaster//Event Calendar 2.0//EN
METHOD:PUBLISH
X-PUBLISHED-TTL:P3D
REFRESH-INTERVAL:P3D
CALSCALE:GREGORIAN
BEGIN:VEVENT
DTSTART:20181020T160000Z
DTEND:20181020T220000Z
X-MICROSOFT-CDO-ALLDAYEVENT:FALSE
SUMMARY:Hunting Creek Vineyards Harvest Celebration
DESCRIPTION:p.p1 {margin: 0.0px 0.0px 0.0px 0.0px\; font: 8.0px Calibri}\nspan.s1 {font-kerning: none}\n\nWe hope you can join us on Oct 20th from noon to 6pm for\n\na harvest celebration here at the vineyard. Smokin Butts slow and\n\nLow food truck will be here with ribs\, bbq and catfish. \n\nJason Frye will entertain us with his amazing voice and guitar\, \n\nwe are so happy to have him back with us! \n\nNo charge for admission\; \n\nfood\, wine\, sangria\, locally made candy and a Fall craft\n\nwill be available for purchase along with our other merchandise.
X-ALT-DESC;FMTTYPE=text/html:<style type="text/css">p.p1 {margin: 0.0px 0.0px 0.0px 0.0px\; font: 8.0px Calibri}\nspan.s1 {font-kerning: none}\n</style>\n<p class="p1"><span style="font-size:14px\;"><span class="s1">We hope you can join us on Oct 20th from noon to 6pm for</span></span></p>\n\n<p class="p1"><span style="font-size:14px\;"><span class="s1">a harvest celebration here at the vineyard. Smokin Butts slow and</span></span></p>\n\n<p class="p1"><span style="font-size:14px\;"><span class="s1">Low food truck will be here with ribs\, bbq and catfish.&nbsp\;</span></span></p>\n\n<p class="p1"><span style="font-size:14px\;"><span class="s1">Jason Frye will entertain us with his amazing voice and guitar\,&nbsp\;</span></span></p>\n\n<p class="p1"><span style="font-size:14px\;"><span class="s1">we are so happy to have him back with us!&nbsp\;</span></span></p>\n\n<p class="p1"><span style="font-size:14px\;"><span class="s1">No charge for admission\;&nbsp\;</span></span></p>\n\n<p class="p1"><span style="font-size:14px\;"><span class="s1">food\, wine\, sangria\, locally made candy and a Fall craft</span></span></p>\n\n<p class="p1"><span style="font-size:14px\;"><span class="s1">will be available for purchase along with our other merchandise.</span></span></p>\n
LOCATION:Hunting Creek Vineyards 2000 Addie Williams Trail\, Clover\, VA 24534
UID:e.845.8530
SEQUENCE:3
DTSTAMP:20260421T171543Z
URL:https://business.halifaxchamber.net/events/details/hunting-creek-vineyards-harvest-celebration-8530
END:VEVENT

END:VCALENDAR
