BEGIN:VCALENDAR
VERSION:2.0
PRODID:-//ChamberMaster//Event Calendar 2.0//EN
METHOD:PUBLISH
X-PUBLISHED-TTL:P3D
REFRESH-INTERVAL:P3D
CALSCALE:GREGORIAN
BEGIN:VEVENT
DTSTART:20190524T200000Z
DTEND:20190524T200000Z
X-MICROSOFT-CDO-ALLDAYEVENT:FALSE
SUMMARY:Hunting Creek Vineyards Ribbon Cutting & Grand Opening
DESCRIPTION:Hunting Creek Vineyards will have a Grand Opening of The Barn\, their new tasting room.\n\nTry the new Ros \, Forbidden release!\n\nTastings will be compliments of Hunting Creek Vineyards.\n\nFood and wine by the glass will be available for purchase.\n\nChance of Snow will be performing.
X-ALT-DESC;FMTTYPE=text/html:Hunting Creek Vineyards will have a Grand Opening of The Barn\, their new tasting room.<br />\nTry the new Ros&eacute\;\, Forbidden release!<br />\nTastings will be compliments of Hunting Creek Vineyards.<br />\nFood and wine by the glass will be available for purchase.<br />\nChance of Snow will be performing.
LOCATION:The Barn at Hunting Creek Vineyards 2000 Addie Williams Trail Clover\, VA 24534
UID:e.845.12469
SEQUENCE:3
DTSTAMP:20260421T063017Z
URL:https://business.halifaxchamber.net/events/details/hunting-creek-vineyards-ribbon-cutting-grand-opening-12469
END:VEVENT

END:VCALENDAR
