BEGIN:VCALENDAR
VERSION:2.0
PRODID:-//ChamberMaster//Event Calendar 2.0//EN
METHOD:PUBLISH
X-PUBLISHED-TTL:P3D
REFRESH-INTERVAL:P3D
CALSCALE:GREGORIAN
BEGIN:VEVENT
DTSTART:20200926T150000Z
DTEND:20200926T210000Z
X-MICROSOFT-CDO-ALLDAYEVENT:FALSE
SUMMARY:Hunting Creek Vineyards White Wine Release
DESCRIPTION:Join Hunting Creek Vineyards for the release of their new white wines\; Bliss (Chardonnay) and Flirtation (Petite Manseng). Enjoy food for purchase from Smoking Butts Low n Slow.
X-ALT-DESC;FMTTYPE=text/html:Join Hunting Creek Vineyards for the release of their new white wines\; Bliss (Chardonnay) and Flirtation (Petite Manseng). Enjoy food for purchase from Smoking Butts Low n Slow.
LOCATION:Hunting Creek Vineyards 2000 Addie Williams Trail Clover\, VA 24534
UID:e.845.17761
SEQUENCE:3
DTSTAMP:20260420T032357Z
URL:https://business.halifaxchamber.net/events/details/hunting-creek-vineyards-white-wine-release-17761
END:VEVENT

END:VCALENDAR
