BEGIN:VCALENDAR
VERSION:2.0
PRODID:-//ChamberMaster//Event Calendar 2.0//EN
METHOD:PUBLISH
X-PUBLISHED-TTL:P3D
REFRESH-INTERVAL:P3D
CALSCALE:GREGORIAN
BEGIN:VEVENT
DTSTART:20190328T140000Z
DTEND:20190328T150000Z
X-MICROSOFT-CDO-ALLDAYEVENT:FALSE
SUMMARY:HVAC Information Session
DESCRIPTION:Attention high school seniors and adults interested in getting certified in HVAC:\n\nYou will not want to miss this information session held this THURSDAY\, March 28 at the SVHEC.
X-ALT-DESC;FMTTYPE=text/html:<span style="caret-color: rgb(29\, 33\, 41)\; color: rgb(29\, 33\, 41)\; font-family: system-ui\, -apple-system\, BlinkMacSystemFont\, &quot\;.SFNSText-Regular&quot\;\, sans-serif\; font-size: 14px\; white-space: pre-wrap\; background-color: rgb(255\, 255\, 255)\;">Attention high school seniors and adults interested in getting certified in HVAC:</span><br style="caret-color: rgb(29\, 33\, 41)\; color: rgb(29\, 33\, 41)\; font-family: system-ui\, -apple-system\, BlinkMacSystemFont\, &quot\;.SFNSText-Regular&quot\;\, sans-serif\; font-size: 14px\; white-space: pre-wrap\;" />\n<span style="caret-color: rgb(29\, 33\, 41)\; color: rgb(29\, 33\, 41)\; font-family: system-ui\, -apple-system\, BlinkMacSystemFont\, &quot\;.SFNSText-Regular&quot\;\, sans-serif\; font-size: 14px\; white-space: pre-wrap\; background-color: rgb(255\, 255\, 255)\;">You will not want to miss this information session held this THURSDAY\, March 28 at the SVHEC.</span>
LOCATION:
UID:e.845.12398
SEQUENCE:3
DTSTAMP:20260421T093403Z
URL:https://business.halifaxchamber.net/events/details/hvac-information-session-12398
END:VEVENT

END:VCALENDAR
