BEGIN:VCALENDAR
VERSION:2.0
PRODID:-//ChamberMaster//Event Calendar 2.0//EN
METHOD:PUBLISH
X-PUBLISHED-TTL:P3D
REFRESH-INTERVAL:P3D
CALSCALE:GREGORIAN
BEGIN:VEVENT
DTSTART:20200115T190000Z
DTEND:20200115T200000Z
X-MICROSOFT-CDO-ALLDAYEVENT:FALSE
SUMMARY:HVAC Information Session
DESCRIPTION:Learn more about the HVAC@SVHEC hands-on training program\, and how you can become a certified technician in less than a year. Information sessions are required.\n\n\n\nTo reserve your spot\, contact Jermaine Gooden at 434-572-5593
X-ALT-DESC;FMTTYPE=text/html:<div class="_63eu" style="box-sizing: border-box\; font-size: 14px\; max-height: 260px\; overflow: hidden\; padding: 12px\; overflow-wrap: break-word\; font-family: system-ui\, -apple-system\, system-ui\, &quot\;.SFNSText-Regular&quot\;\, sans-serif\; color: rgb(29\, 33\, 41)\;">\n<div class="_63ew" data-testid="event-permalink-details" style="white-space: pre-wrap\; font-family: inherit\;"><span style="font-family: inherit\;">Learn more about the HVAC@SVHEC hands-on training program\, and how you can become a certified technician in less than a year. Information sessions are required.</span></div>\n</div>\n<br />\nTo reserve your spot\, contact Jermaine Gooden at 434-572-5593&nbsp\;
LOCATION:820 Bruce Street South Boston\, VA 24592
UID:e.845.15642
SEQUENCE:3
DTSTAMP:20260420T182758Z
URL:https://business.halifaxchamber.net/events/details/hvac-information-session-15642
END:VEVENT

END:VCALENDAR
