BEGIN:VCALENDAR
VERSION:2.0
PRODID:-//ChamberMaster//Event Calendar 2.0//EN
METHOD:PUBLISH
X-PUBLISHED-TTL:P3D
REFRESH-INTERVAL:P3D
CALSCALE:GREGORIAN
BEGIN:VEVENT
DTSTART:20210319T120000Z
DTEND:20210319T210000Z
X-MICROSOFT-CDO-ALLDAYEVENT:FALSE
SUMMARY:HVAC Job Fair
DESCRIPTION:Join Rogers Heating & Cooling for a job fair with interviews on-site. Come prepared with a copy of your resume. Competitive wages\, benefit packages\, and advancement opportunities available.
X-ALT-DESC;FMTTYPE=text/html:Join Rogers Heating &amp\; Cooling for a job fair with interviews on-site. Come prepared with a copy of your resume. Competitive wages\, benefit packages\, and advancement opportunities available.
LOCATION:515 Broad Street South Boston\, VA 24592
UID:e.845.17883
SEQUENCE:3
DTSTAMP:20260419T182857Z
URL:https://business.halifaxchamber.net/events/details/hvac-job-fair-17883
END:VEVENT

END:VCALENDAR
