BEGIN:VCALENDAR
VERSION:2.0
PRODID:-//ChamberMaster//Event Calendar 2.0//EN
METHOD:PUBLISH
X-PUBLISHED-TTL:P3D
REFRESH-INTERVAL:P3D
CALSCALE:GREGORIAN
BEGIN:VEVENT
DTSTART:20171109T223000Z
DTEND:20171109T233000Z
X-MICROSOFT-CDO-ALLDAYEVENT:FALSE
SUMMARY:HYPE Brainstorming Session
DESCRIPTION:WE WANT TO HEAR FROM YOU! \n\n\n\nJoin us November 9th at 5:30 in the Southern Virginia Higher Education Foundation Board Road at 820 Bruce Street for a brainstorming session. This meeting will offer an opportunity for local young professionals to discuss ideas and current needs of young professionals in our community. Topics such as what you want to see changed and how to make living in Halifax County a great experience will be discussed.\n\n\n\nRSVP by November 7th
X-ALT-DESC;FMTTYPE=text/html:WE WANT TO HEAR FROM YOU!&nbsp\;<br />\n<br />\nJoin us November 9th at 5:30 in the Southern Virginia Higher Education Foundation Board Road at 820 Bruce Street for a brainstorming session. This meeting will offer an opportunity for local young professionals to discuss ideas and current needs of young professionals in our community. Topics such as what you want to see changed and how to make living in Halifax County a great experience will be discussed.<br />\n<br />\nRSVP by November 7th
LOCATION:Halifax County Chamber of Commerce in the Southern Virginia Higher Education Foundation Board Room 820 Bruce Street South Boston\, VA
UID:e.845.7139
SEQUENCE:3
DTSTAMP:20260422T120545Z
URL:https://business.halifaxchamber.net/events/details/hype-brainstorming-session-7139
END:VEVENT

END:VCALENDAR
