BEGIN:VCALENDAR
VERSION:2.0
PRODID:-//ChamberMaster//Event Calendar 2.0//EN
METHOD:PUBLISH
X-PUBLISHED-TTL:P3D
REFRESH-INTERVAL:P3D
CALSCALE:GREGORIAN
BEGIN:VEVENT
DTSTART;VALUE=DATE:20200902
DTEND;VALUE=DATE:20200903
TRANSP:TRANSPARENT
X-MICROSOFT-CDO-ALLDAYEVENT:TRUE
SUMMARY:HYPE Clean Up Day
DESCRIPTION:Join Halifax Young Professionals & Entrepreneurs for their Community Clean Up Day! Help keep the community clean\, while networking with peers in the business community.\n\nSign up for one of our time slots!\n\nPlease report any bags collected to info@halifaxchamber.net
X-ALT-DESC;FMTTYPE=text/html:Join Halifax Young Professionals &amp\; Entrepreneurs for their Community Clean Up Day! Help keep the community clean\, while networking with peers in the business community.<br />\nSign up for one of our time slots!<br />\nPlease report any bags collected to info@halifaxchamber.net
LOCATION:Love Shop Road South Boston\, VA
UID:e.845.17748
SEQUENCE:3
DTSTAMP:20260420T031712Z
URL:https://business.halifaxchamber.net/events/details/hype-clean-up-day-17748
END:VEVENT

END:VCALENDAR
