BEGIN:VCALENDAR
VERSION:2.0
PRODID:-//ChamberMaster//Event Calendar 2.0//EN
METHOD:PUBLISH
X-PUBLISHED-TTL:P3D
REFRESH-INTERVAL:P3D
CALSCALE:GREGORIAN
BEGIN:VEVENT
DTSTART:20181122T000000Z
DTEND:20181122T040000Z
X-MICROSOFT-CDO-ALLDAYEVENT:FALSE
SUMMARY:HYPE Friendsgiving Social
DESCRIPTION:HYPE(Halifax Young Professionals & Entrepreneurs) invites you to join them for a Friendsgiving Social event at the Prizery in South Boston\, VA! DJ Shakespeare\, food and friends! This event is 21 & up and is BYOB (beer and wine only.)
X-ALT-DESC;FMTTYPE=text/html:HYPE(Halifax Young Professionals &amp\; Entrepreneurs) invites you to join them for a Friendsgiving Social event at the Prizery in South Boston\, VA! DJ Shakespeare\, food and friends! This event is 21 &amp\; up and is BYOB (beer and wine only.)
LOCATION:The Prizery-Banquet Hall 700 Bruce Street South Boston\, VA
UID:e.845.8499
SEQUENCE:3
DTSTAMP:20260421T171543Z
URL:https://business.halifaxchamber.net/events/details/hype-friendsgiving-social-8499
END:VEVENT

END:VCALENDAR
