BEGIN:VCALENDAR
VERSION:2.0
PRODID:-//ChamberMaster//Event Calendar 2.0//EN
METHOD:PUBLISH
X-PUBLISHED-TTL:P3D
REFRESH-INTERVAL:P3D
CALSCALE:GREGORIAN
BEGIN:VEVENT
DTSTART:20200827T213000Z
DTEND:20200827T213000Z
X-MICROSOFT-CDO-ALLDAYEVENT:FALSE
SUMMARY:HYPE Hangout with Brian Zwoyer
DESCRIPTION:Halifax Young Professionals are invited to attend the first HYPE Hangout with Brian Zwoyer\, President of Sentara Halifax Regional Hospital.
X-ALT-DESC;FMTTYPE=text/html:Halifax Young Professionals are invited to attend the first HYPE Hangout with Brian Zwoyer\, President of Sentara Halifax Regional Hospital.
LOCATION:Berry Hill Resort 3105 River Road South Boston\, VA 24592
UID:e.845.17728
SEQUENCE:3
DTSTAMP:20260420T050430Z
URL:https://business.halifaxchamber.net/events/details/hype-hangout-with-brian-zwoyer-17728
END:VEVENT

END:VCALENDAR
