BEGIN:VCALENDAR
VERSION:2.0
PRODID:-//ChamberMaster//Event Calendar 2.0//EN
METHOD:PUBLISH
X-PUBLISHED-TTL:P3D
REFRESH-INTERVAL:P3D
CALSCALE:GREGORIAN
BEGIN:VEVENT
DTSTART:20160203T170000Z
DTEND:20160203T180000Z
X-MICROSOFT-CDO-ALLDAYEVENT:FALSE
SUMMARY:HYPE Lunch & Learn
DESCRIPTION:Come out to lunch at Italian Delight Family Restaurant where Matt Barber\, new Business Administrator for the South Boston-Halifax County Museum of Fine Arts & History\, and Paul Smith\, the Museum's current Board of Directors President\, will be joining HYPE to fill us in on the mission\, vision\, changes and initiatives of the South Boston-Halifax County Museum of Fine Arts and History. We look forward to seeing you there!
X-ALT-DESC;FMTTYPE=text/html:<span style="font: 14px/25.01px helvetica\, arial\, sans-serif\; color: rgb(20\, 24\, 35)\; text-transform: none\; text-indent: 0px\; letter-spacing: normal\; word-spacing: 0px\; float: none\; display: inline !important\; white-space: normal\; widows: 1\; font-size-adjust: none\; font-stretch: normal\; background-color: rgb(255\, 255\, 255)\; -webkit-text-stroke-width: 0px\;">Come out to lunch at&nbsp\;Italian Delight Family Restaurant</span><span style="font: 14px/25.01px helvetica\, arial\, sans-serif\; color: rgb(20\, 24\, 35)\; text-transform: none\; text-indent: 0px\; letter-spacing: normal\; word-spacing: 0px\; float: none\; display: inline !important\; white-space: normal\; widows: 1\; font-size-adjust: none\; font-stretch: normal\; background-color: rgb(255\, 255\, 255)\; -webkit-text-stroke-width: 0px\;">&nbsp\;where Matt Barber\, new Business Administrator for the South Boston-Halifax County Museum of Fine Arts &amp\; History\, and Paul Smith\, the Museum&#39\;s current Board of Directors President\, will be joining HYPE to fill us in on the mission\, vision\, changes and initiatives of the South Boston-Halifax County Museum of Fine Arts and History. We look forward to seeing you there!</span>
LOCATION:Side room of Italian Delight Restaurant
UID:e.845.4564
SEQUENCE:3
DTSTAMP:20260425T124440Z
URL:https://business.halifaxchamber.net/events/details/hype-lunch-learn-02-03-2016-4564
END:VEVENT

END:VCALENDAR
