BEGIN:VCALENDAR
VERSION:2.0
PRODID:-//ChamberMaster//Event Calendar 2.0//EN
METHOD:PUBLISH
X-PUBLISHED-TTL:P3D
REFRESH-INTERVAL:P3D
CALSCALE:GREGORIAN
BEGIN:VEVENT
DTSTART:20201021T160000Z
DTEND:20201021T170000Z
X-MICROSOFT-CDO-ALLDAYEVENT:FALSE
SUMMARY:HYPE Lunch N Learn
DESCRIPTION:Join HYPE as they host Matt McCargo for a Lunch and Learn on October 21st. Matt McCargo\, a community figurehead\, will speak to young professionals about Halifax Co. and his insight on what needs to be done to make it a better place.\n\nGet there at noon to order your lunch. Matt will begin speaking at 12:30 PM.
X-ALT-DESC;FMTTYPE=text/html:<div class="kvgmc6g5 cxmmr5t8 oygrvhab hcukyx3x c1et5uql" style="overflow-wrap: break-word\; margin: 0px\; font-family: system-ui\, -apple-system\, system-ui\, &quot\;.SFNSText-Regular&quot\;\, sans-serif\; color: rgb(5\, 5\, 5)\; font-size: 15px\;">Join HYPE as they host Matt McCargo for a Lunch and Learn on October 21st. Matt McCargo\, a community figurehead\, will speak to young professionals about Halifax Co. and his insight on what needs to be done to make it a better place.</div>\n\n<div class="o9v6fnle cxmmr5t8 oygrvhab hcukyx3x c1et5uql" style="overflow-wrap: break-word\; margin: 0.5em 0px 0px\; font-family: system-ui\, -apple-system\, system-ui\, &quot\;.SFNSText-Regular&quot\;\, sans-serif\; color: rgb(5\, 5\, 5)\; font-size: 15px\;">Get there at noon to order your lunch. Matt will begin speaking at 12:30 PM.</div>\n
LOCATION:World of Sports 2030 Bill Tuck Highway South Boston\, VA 24592
UID:e.845.17785
SEQUENCE:3
DTSTAMP:20260420T031715Z
URL:https://business.halifaxchamber.net/events/details/hype-lunch-n-learn-17785
END:VEVENT

END:VCALENDAR
