BEGIN:VCALENDAR
VERSION:2.0
PRODID:-//ChamberMaster//Event Calendar 2.0//EN
METHOD:PUBLISH
X-PUBLISHED-TTL:P3D
REFRESH-INTERVAL:P3D
CALSCALE:GREGORIAN
BEGIN:VEVENT
DTSTART:20150527T160000Z
DTEND:20150527T170000Z
X-MICROSOFT-CDO-ALLDAYEVENT:FALSE
SUMMARY:HYPE Luncheon
DESCRIPTION:Do you have ideas for HYPE that you would like heard?  Bring these ideas with you to lunch at Italian Delight on Wednesday\, May 27th\, where we will talk about the types of events that you would like to see coming from HYPE this year!\n\n \n\nThis lunch gathering will begin at 12 noon.
X-ALT-DESC;FMTTYPE=text/html:Do you have ideas for HYPE that you would like heard?&nbsp\; Bring these ideas with you to lunch at Italian Delight on Wednesday\, May 27<sup>th</sup>\, where we will talk about the types of events that you would like to see coming from HYPE this year!<br />\n&nbsp\;<br />\n<span style="font-family:calibri\,sans-serif\;"><span style="font-size:11.0pt\;">This lunch gathering will begin at 12 noon.</span></span>
LOCATION:Italian Delight South Boston VA
UID:e.845.3314
SEQUENCE:3
DTSTAMP:20260426T015744Z
URL:https://business.halifaxchamber.net/events/details/hype-luncheon-05-27-2015-3314
END:VEVENT

END:VCALENDAR
