BEGIN:VCALENDAR
VERSION:2.0
PRODID:-//ChamberMaster//Event Calendar 2.0//EN
METHOD:PUBLISH
X-PUBLISHED-TTL:P3D
REFRESH-INTERVAL:P3D
CALSCALE:GREGORIAN
BEGIN:VEVENT
DTSTART:20150729T160000Z
DTEND:20150729T170000Z
X-MICROSOFT-CDO-ALLDAYEVENT:FALSE
SUMMARY:HYPE Luncheon with Guest Speaker\, Delegate James Edmunds\, II
DESCRIPTION:HYPE Members\, Please join us for a HYPE Lunch meeting with Guest Speaker\, Delegate James Edmunds\, II who represents the 60th District in the Virginia House of Delegates.
X-ALT-DESC;FMTTYPE=text/html:HYPE Members\, Please join us for a HYPE Lunch meeting with Guest Speaker\, Delegate James Edmunds\, II who represents the 60th District in the Virginia House of Delegates.
LOCATION:Italian Delight Restaurant
UID:e.845.3324
SEQUENCE:3
DTSTAMP:20260425T223700Z
URL:https://business.halifaxchamber.net/events/details/hype-luncheon-with-guest-speaker-delegate-james-edmunds-ii-07-29-2015-3324
END:VEVENT

END:VCALENDAR
