BEGIN:VCALENDAR
VERSION:2.0
PRODID:-//ChamberMaster//Event Calendar 2.0//EN
METHOD:PUBLISH
X-PUBLISHED-TTL:P3D
REFRESH-INTERVAL:P3D
CALSCALE:GREGORIAN
BEGIN:VEVENT
DTSTART;VALUE=DATE:20190503
DTEND;VALUE=DATE:20190504
TRANSP:TRANSPARENT
X-MICROSOFT-CDO-ALLDAYEVENT:TRUE
SUMMARY:HYPE Night at Springfield Distillery
DESCRIPTION:Halifax Young Professionals & Entrepreneurs (HYPE) will come together at Springfield Distillery. Bearded Whiskey will be performing and Bugs Island Brewing will be there with beer!
X-ALT-DESC;FMTTYPE=text/html:Halifax Young Professionals &amp\; Entrepreneurs (HYPE) will come together at Springfield Distillery. Bearded Whiskey will be performing and Bugs Island Brewing will be there with beer!
LOCATION:Springfield Distillery 9040 River Road Halifax\, VA 24558
UID:e.845.12473
SEQUENCE:3
DTSTAMP:20260421T062418Z
URL:https://business.halifaxchamber.net/events/details/hype-night-at-springfield-distillery-12473
END:VEVENT

END:VCALENDAR
