BEGIN:VCALENDAR
VERSION:2.0
PRODID:-//ChamberMaster//Event Calendar 2.0//EN
METHOD:PUBLISH
X-PUBLISHED-TTL:P3D
REFRESH-INTERVAL:P3D
CALSCALE:GREGORIAN
BEGIN:VEVENT
DTSTART:20201029T220000Z
DTEND:20201029T233000Z
X-MICROSOFT-CDO-ALLDAYEVENT:FALSE
SUMMARY:HYPE Night Mixology ft. Tales of Berry Hill
DESCRIPTION:Join HYPE for a special Mixology night featuring Tales of Berry Hill as told by Mr. Luck and Austin.\n\nFee includes 2 drinks.\n\nMust RSVP at https://www.berryhillresort.com/event-details/hype-event
X-ALT-DESC;FMTTYPE=text/html:Join HYPE for a special Mixology night featuring Tales of Berry Hill as told by Mr. Luck and Austin.<br />\nFee includes 2 drinks.<br />\nMust RSVP at&nbsp\;<a href="https://www.berryhillresort.com/event-details/hype-event">https://www.berryhillresort.com/event-details/hype-event</a>
LOCATION:Berry Hill Resort 3105 River Road South Boston\, VA 24592
UID:e.845.17786
SEQUENCE:3
DTSTAMP:20260420T013444Z
URL:https://business.halifaxchamber.net/events/details/hype-night-mixology-ft-tales-of-berry-hill-17786
END:VEVENT

END:VCALENDAR
