BEGIN:VCALENDAR
VERSION:2.0
PRODID:-//ChamberMaster//Event Calendar 2.0//EN
METHOD:PUBLISH
X-PUBLISHED-TTL:P3D
REFRESH-INTERVAL:P3D
CALSCALE:GREGORIAN
BEGIN:VEVENT
DTSTART:20160922T220000Z
DTEND:20160923T010000Z
X-MICROSOFT-CDO-ALLDAYEVENT:FALSE
SUMMARY:Hype Trivia Night
DESCRIPTION:HYPE Trivia Night is back! Are you up for the challenge?\n\nCome early at 6 for dinner if you are able\, and trivia rounds will start promptly at 7. RSVP by Tuesday\, September 20th Liz.Smith@mbc-va.com. Include names of those on your trivia team if you'd like to get your own team together. Teams will be comprised of four individuals. If you'd like to participate but don't have a team\, no worries\, we will pair you with a team when you arrive.\n\nYou can find more details about this event on Facebook at https://www.facebook.com/events/257641641302030. Tell your friends to join in on the fun\, too!
X-ALT-DESC;FMTTYPE=text/html:HYPE Trivia Night is back! Are you up for the challenge?<br />\nCome early at 6 for dinner if you are able\, and trivia rounds will start promptly at 7. RSVP by Tuesday\, September 20th <a href="mailto:Liz.Smith@mbc-va.com">Liz.Smith@mbc-va.com</a>. Include names of those on your trivia team if you&#39\;d like to get your own team&nbsp\;together. Teams will be comprised of four individuals. If you&#39\;d like to participate but don&#39\;t have a team\, no worries\, we will pair you with a team when you arrive.<br />\nYou can find more&nbsp\;details about this event on&nbsp\;Facebook at <a href="https://www.facebook.com/events/257641641302030">https://www.facebook.com/events/257641641302030</a>. Tell your friends to join in on the fun\, too!<br />\n&nbsp\;
LOCATION:Spare Times Grill 2030 Bill Tuck Hwy. South Boston\, VA 24592
UID:e.845.5711
SEQUENCE:3
DTSTAMP:20260424T225259Z
URL:https://business.halifaxchamber.net/events/details/hype-trivia-night-5711
END:VEVENT

END:VCALENDAR
