BEGIN:VCALENDAR
VERSION:2.0
PRODID:-//ChamberMaster//Event Calendar 2.0//EN
METHOD:PUBLISH
X-PUBLISHED-TTL:P3D
REFRESH-INTERVAL:P3D
CALSCALE:GREGORIAN
BEGIN:VEVENT
DTSTART:20180530T220000Z
DTEND:20180531T010000Z
X-MICROSOFT-CDO-ALLDAYEVENT:FALSE
SUMMARY:HYPE Trivia Night
DESCRIPTION:Join the Halifax Young Professionals Group for Trivia Night!\n\nGet to know other working professionals in the area.
X-ALT-DESC;FMTTYPE=text/html:Join the Halifax Young Professionals Group for Trivia Night!<br />\nGet to know other working professionals in the area.&nbsp\;<br />\n&nbsp\;
LOCATION:Four Oaks Restaurant & lounge Big Room 1633 Seymour Drive South Boston\, VA
UID:e.845.8437
SEQUENCE:3
DTSTAMP:20260422T014619Z
URL:https://business.halifaxchamber.net/events/details/hype-trivia-night-8437
END:VEVENT

END:VCALENDAR
