BEGIN:VCALENDAR
VERSION:2.0
PRODID:-//ChamberMaster//Event Calendar 2.0//EN
METHOD:PUBLISH
X-PUBLISHED-TTL:P3D
REFRESH-INTERVAL:P3D
CALSCALE:GREGORIAN
BEGIN:VEVENT
DTSTART:20170427T220000Z
DTEND:20170428T010000Z
X-MICROSOFT-CDO-ALLDAYEVENT:FALSE
SUMMARY:HYPE Trivia Night at Springfield Distillery
DESCRIPTION:The next HYPE trivia night will be held at Springfield Distillery. The distillery opened four months ago and produces delicious whiskeys and cocktails. There will be a food truck at the distillery to serve dinner. Trivia teams should have a maximum of four people. We have booked the tourism bus which holds 14 people for that evening. The bus will depart the Halifax County Visitor Center at 5:40 PM on April 27. If you would like to ride in the tourism bus to the trivia night please contact Winston Harrell. Join us for a fun night of food\, whiskey and trivia.
X-ALT-DESC;FMTTYPE=text/html:<span style="color: rgb(75\, 79\, 86)\; font-family: 'San Francisco'\, -apple-system\, BlinkMacSystemFont\, '.SFNSText-Regular'\, sans-serif\; font-size: 14px\; letter-spacing: -0.23999999463558197px\;">The next HYPE trivia night will be held at Springfield Distillery. The distillery opened four months ago and produces delicious whiskeys and cocktails. There will be a food truck at the distillery to serve dinner. Trivia teams should have a maximum of four people. We have booked the tourism bus which holds 14 people for that evening. The bus will depart the Halifax County Visitor Center at 5:40 PM on April 27. If you would like to ride in the tourism bus to the trivia night please contact Winston Harrell. Join us for a fun night of food\, whiskey and trivia.</span>
LOCATION:Springfield Distillery 9040 River Road Halifax\, VA 24558
UID:e.845.5878
SEQUENCE:3
DTSTAMP:20260424T113952Z
URL:https://business.halifaxchamber.net/events/details/hype-trivia-night-at-springfield-distillery-5878
END:VEVENT

END:VCALENDAR
