BEGIN:VCALENDAR
VERSION:2.0
PRODID:-//ChamberMaster//Event Calendar 2.0//EN
METHOD:PUBLISH
X-PUBLISHED-TTL:P3D
REFRESH-INTERVAL:P3D
CALSCALE:GREGORIAN
BEGIN:VEVENT
DTSTART:20181022T230000Z
DTEND:20181023T010000Z
X-MICROSOFT-CDO-ALLDAYEVENT:FALSE
SUMMARY:HYPE Trivia Night @ Tailgator Sports Bar & Grill
DESCRIPTION:Join us for an evening of trivia and networking!\n\nSocial hour 6p-7p \n\nTrivia 7p-9p (approximate)\n\nThere will be (6) rounds with (10) questions each\n\n\n\nThere is no cost to play!
X-ALT-DESC;FMTTYPE=text/html:<span style="color:#0000CD\;"><strong>Join us for an evening of trivia and networking!<br />\nSocial hour 6p-7p&nbsp\;<br />\nTrivia 7p-9p (approximate)<br />\nThere will be (6) rounds with (10) questions each</strong><br />\n<br />\n<strong>There is no cost to play!</strong></span>
LOCATION:Tailgator Sports Bar & Grill
UID:e.845.8525
SEQUENCE:3
DTSTAMP:20260421T171632Z
URL:https://business.halifaxchamber.net/events/details/hype-trivia-night-tailgator-sports-bar-grill-8525
END:VEVENT

END:VCALENDAR
