BEGIN:VCALENDAR
VERSION:2.0
PRODID:-//ChamberMaster//Event Calendar 2.0//EN
METHOD:PUBLISH
X-PUBLISHED-TTL:P3D
REFRESH-INTERVAL:P3D
CALSCALE:GREGORIAN
BEGIN:VEVENT
DTSTART:20181222T000000Z
DTEND:20181222T020000Z
X-MICROSOFT-CDO-ALLDAYEVENT:FALSE
SUMMARY:HYPE Ugly Sweater Party
DESCRIPTION:HYPE invites you to bring out your ugliest sweater and join them at World of Sports for an Ugly Sweater Party!!
X-ALT-DESC;FMTTYPE=text/html:HYPE invites you to bring out your ugliest sweater and join them at World of Sports for an Ugly Sweater Party!!
LOCATION:World of Sports
UID:e.845.8599
SEQUENCE:3
DTSTAMP:20260421T135920Z
URL:https://business.halifaxchamber.net/events/details/hype-ugly-sweater-party-8599
END:VEVENT

END:VCALENDAR
