BEGIN:VCALENDAR
VERSION:2.0
PRODID:-//ChamberMaster//Event Calendar 2.0//EN
METHOD:PUBLISH
X-PUBLISHED-TTL:P3D
REFRESH-INTERVAL:P3D
CALSCALE:GREGORIAN
BEGIN:VEVENT
DTSTART:20170519T120000Z
DTEND:20170519T210000Z
X-MICROSOFT-CDO-ALLDAYEVENT:FALSE
SUMMARY:HyperFest
DESCRIPTION:Get behind the wheel of your own car on the racetrack at HyperFest\, "the Automotive Amusement Park\," annual motorsports festival. The event features road racing\, drifting demos and competitions\, car shows\, hyper-drives\, ride-alongs\, live music\, games and contests and much more. You don't want to miss HyperFest's USDrift PRO/AM competition   it's currently the longest\, continually running drifting competition in North America!
X-ALT-DESC;FMTTYPE=text/html:<span style="color:rgb(0\, 0\, 0)\; font-family:helveticaneue-light\,helvetica neue light\,helvetica neue\,helvetica\,arial\,lucida grande\,sans-serif\; font-size:16px">Get behind the wheel of your own car on the racetrack at&nbsp\;</span><a href="http://hyper-fest.com/" style="box-sizing: border-box\; -webkit-transition: all 0.3s\; transition: all 0.3s\; color: rgb(0\, 105\, 64)\; font-family: HelveticaNeue-Light\, 'Helvetica Neue Light'\, 'Helvetica Neue'\, Helvetica\, Arial\, 'Lucida Grande'\, sans-serif\; font-size: 16px\;" target="_blank">HyperFest</a><span style="color:rgb(0\, 0\, 0)\; font-family:helveticaneue-light\,helvetica neue light\,helvetica neue\,helvetica\,arial\,lucida grande\,sans-serif\; font-size:16px">\, &ldquo\;the Automotive Amusement Park\,&rdquo\; annual motorsports festival. The event features road racing\, drifting demos and competitions\, car shows\, hyper-drives\, ride-alongs\, live music\, games and contests and much more. You don&rsquo\;t want to miss HyperFest&rsquo\;s USDrift PRO/AM competition &ndash\; it&rsquo\;s currently the longest\, continually running drifting competition in North America!</span>
LOCATION:VIRginia International Raceway 1245 Pine Tree Road Alton\, VA 24520
UID:e.845.5760
SEQUENCE:3
DTSTAMP:20260424T101107Z
URL:https://business.halifaxchamber.net/events/details/hyperfest-05-19-2017-5760
END:VEVENT

END:VCALENDAR
